BEGIN:VCALENDAR
VERSION:2.0
PRODID:-//InvisionCommunity Events 5.0.18//EN
METHOD:PUBLISH
CALSCALE:GREGORIAN
REFRESH-INTERVAL:PT15M
X-PUBLISHED-TTL:PT15M
X-WR-CALNAME:Tous les calendriers - Animation et colonies de vacances
NAME:Tous les calendriers - Animation et colonies de vacances
BEGIN:VTIMEZONE
TZID:Europe/London
TZURL:https://tzurl.org/zoneinfo/Europe/London
X-LIC-LOCATION:Europe/London
BEGIN:DAYLIGHT
TZOFFSETFROM:+0000
TZOFFSETTO:+0100
TZNAME:BST
DTSTART:20170326T020000Z
RRULE:FREQ=YEARLY;BYMONTH=3;BYDAY=-1SU
END:DAYLIGHT
BEGIN:STANDARD
TZOFFSETFROM:+0100
TZOFFSETTO:+0000
TZNAME:GMT
DTSTART:20171029T020000Z
RRULE:FREQ=YEARLY;BYMONTH=10;BYDAY=-1SU
END:STANDARD
END:VTIMEZONE
BEGIN:VTIMEZONE
TZID:Europe/London
TZURL:https://tzurl.org/zoneinfo/Europe/London
X-LIC-LOCATION:Europe/London
BEGIN:DAYLIGHT
TZOFFSETFROM:+0000
TZOFFSETTO:+0100
TZNAME:BST
DTSTART:20120325T020000Z
RRULE:FREQ=YEARLY;BYMONTH=3;BYDAY=-1SU
END:DAYLIGHT
BEGIN:STANDARD
TZOFFSETFROM:+0100
TZOFFSETTO:+0000
TZNAME:GMT
DTSTART:20121028T020000Z
RRULE:FREQ=YEARLY;BYMONTH=10;BYDAY=-1SU
END:STANDARD
END:VTIMEZONE
BEGIN:VTIMEZONE
TZID:Europe/London
TZURL:https://tzurl.org/zoneinfo/Europe/London
X-LIC-LOCATION:Europe/London
BEGIN:DAYLIGHT
TZOFFSETFROM:+0000
TZOFFSETTO:+0100
TZNAME:BST
DTSTART:20110327T020000Z
RRULE:FREQ=YEARLY;BYMONTH=3;BYDAY=-1SU
END:DAYLIGHT
BEGIN:STANDARD
TZOFFSETFROM:+0100
TZOFFSETTO:+0000
TZNAME:GMT
DTSTART:20111030T020000Z
RRULE:FREQ=YEARLY;BYMONTH=10;BYDAY=-1SU
END:STANDARD
END:VTIMEZONE
BEGIN:VEVENT
SUMMARY:Rentrée des classes
DTSTAMP:20170819T093124Z
SEQUENCE:0
UID:120-2-54ade4230120f8434cb840273e29e388@www.animnet.com
ORGANIZER;CN="Olivier":webmaster@animnet.com
DESCRIPTION:\n	Rentrée des classes\, toutes zones.\n
DTSTART:20170904T063000Z
DTEND:20170903T220000Z
END:VEVENT
BEGIN:VEVENT
SUMMARY:Vacances de printemps (Zone C)
DTSTAMP:20120401T181109Z
SEQUENCE:0
UID:119-2-54ade4230120f8434cb840273e29e388@www.animnet.com
ORGANIZER;CN="Olivier":webmaster@animnet.com
DESCRIPTION:Vacances de printemps\, zone C.\n
DTSTART;VALUE=DATE:20120414
DTEND;VALUE=DATE:20120430
END:VEVENT
BEGIN:VEVENT
SUMMARY:AnimNet.com a 10 ans !
DTSTAMP:20101211T144602Z
SEQUENCE:1
UID:115-2-54ade4230120f8434cb840273e29e388@www.animnet.com
ORGANIZER;CN="Olivier":webmaster@animnet.com
DESCRIPTION:Le 1er janvier 2011\, notre site AnimNet.com soufflera sa 10
	&egrave\;me bougie !\n
DTSTART:20110101T010000Z
END:VEVENT
END:VCALENDAR
